BEGIN:VCALENDAR
PRODID:-//eluceo/ical//2.0/EN
VERSION:2.0
CALSCALE:GREGORIAN
BEGIN:VEVENT
UID:39f4ff867d6ce439aa0336643ceff48a
DTSTAMP:20260421T163118Z
SUMMARY:Text and Context with Rabbi Craig Scheff - June 19
DESCRIPTION:Jewish Federation & Foundation of Rockland County\nCommunity Ca
 lendar\nhttps://jewishrockland.org/calendar/text-and-context-with-rabbi-cr
 aig-scheff-june-19\n\nParashat hashavua (weekly Torah portion)
DTSTART;TZID=America/New_York:20140619T100000
DTEND;TZID=America/New_York:20140619T110000
END:VEVENT
END:VCALENDAR
