BEGIN:VCALENDAR
PRODID:-//eluceo/ical//2.0/EN
VERSION:2.0
CALSCALE:GREGORIAN
BEGIN:VEVENT
UID:3b217e5f5f138f76056f89c22b8e189a
DTSTAMP:20260424T173153Z
SUMMARY:Text and Context with Rabbi Scheff
DESCRIPTION:Jewish Federation & Foundation of Rockland County\nCommunity Ca
 lendar\nhttps://jewishrockland.org/calendar/text-and-context-with-rabbi-sc
 heff-1635428158\n\nRabbi Scheff of the Orangetown Jewish Center leads a di
 scussion on the weekly parsha
DTSTART;TZID=America/New_York:20211202T103000
DTEND;TZID=America/New_York:20211202T113000
END:VEVENT
END:VCALENDAR
