BEGIN:VCALENDAR
PRODID:-//eluceo/ical//2.0/EN
VERSION:2.0
CALSCALE:GREGORIAN
BEGIN:VEVENT
UID:c29b4a4c49d49044c0cfe62efbe52b56
DTSTAMP:20260422T012737Z
SUMMARY:The Beatles--50 Years Later!
DESCRIPTION:Jewish Federation & Foundation of Rockland County\nCommunity Ca
 lendar\nhttps://jewishrockland.org/calendar/the-beatles--50-years-later\n\
 nWhat made The Beatles such a strong force that they’re still popular mo
 re than 50 years later? Barry Wiesenfeld\, freelance musician\, published 
 author\, and music instructor at SUNY and Ramapo College will explore why 
 4 rock ‘n roll “mop tops” were one of the most transforming entities
  of 20th century music\, changing the course of popular music forever. 
DTSTART;TZID=America/New_York:20171018T193000
DTEND;TZID=America/New_York:20171018T210000
END:VEVENT
END:VCALENDAR
