BEGIN:VCALENDAR
PRODID:-//eluceo/ical//2.0/EN
VERSION:2.0
CALSCALE:GREGORIAN
BEGIN:VEVENT
UID:1dde82cf040f43cb1b98871a94f56013
DTSTAMP:20260420T141638Z
SUMMARY:The Genius of Judy Blume
DESCRIPTION:Jewish Federation & Foundation of Rockland County\nCommunity Ca
 lendar\nhttps://jewishrockland.org/calendar/the-genius-of-judy-blume-17238
 21500\n\nAuthor talk and brunch to raise funds for the essential service p
 rovided by Rockland Jewish Family Service.
DTSTART;TZID=America/New_York:20241124T100000
DTEND;TZID=America/New_York:20241124T120000
END:VEVENT
END:VCALENDAR
