BEGIN:VCALENDAR
PRODID:-//eluceo/ical//2.0/EN
VERSION:2.0
CALSCALE:GREGORIAN
BEGIN:VEVENT
UID:f5e34e296b67b14408ad688c14af8b21
DTSTAMP:20260423T160725Z
SUMMARY:The Impossible Spy at Beth Am Temple
DESCRIPTION:Jewish Federation & Foundation of Rockland County\nCommunity Ca
 lendar\nhttps://jewishrockland.org/calendar/the-impossible-spy-at-beth-am-
 temple\n\nLearn about Israeli hero and master spy Elie Cohen\, an accounta
 nt who was recruited by the spy agency Mossad in 1959 to gather intelligen
 ce on the Syrian government.  Cohen’s intelligence work was an importan
 t factor in Israel’s success in the Six Day War.\nA showing of the film\
 , “The Impossible Spy” will follow opening remarks by Timna Mekaiten\,
  Federation's Community Shlicha (Israel Emissary). Beth Am Temple is proud
  to present the movie and discussion in honor of the 50th annivers...
DTSTART;TZID=America/New_York:20150518T193000
DTEND;TZID=America/New_York:20150518T213000
END:VEVENT
END:VCALENDAR
