BEGIN:VCALENDAR
PRODID:-//eluceo/ical//2.0/EN
VERSION:2.0
CALSCALE:GREGORIAN
BEGIN:VEVENT
UID:775233731be25aa1a6805e686f5dbf87
DTSTAMP:20260425T023046Z
SUMMARY:The Jewish Ethical Wills Project
DESCRIPTION:Jewish Federation & Foundation of Rockland County\nCommunity Ca
 lendar\nhttps://jewishrockland.org/calendar/the-jewish-ethical-wills-proje
 ct\n\nThe Jewish Ethical Wills Project \n\nEthical wills are a way to cla
 rify our values and approach the concept of death in a supportive and non-
 anxious environment.  Join Rabbi Russo for a two class program which will
  provide us with the resources and space to learn about\, think about\, an
 d create our own ethical wills.  It is never too early to start!  The Je
 wish Ethical Wills Project is a two-session curriculum which explores ethi
 cal wills as an authentic Jewish practice that helps ...
DTSTART;TZID=America/New_York:20190207T093000
DTEND;TZID=America/New_York:20190207T110000
END:VEVENT
END:VCALENDAR
