BEGIN:VCALENDAR
PRODID:-//eluceo/ical//2.0/EN
VERSION:2.0
CALSCALE:GREGORIAN
BEGIN:VEVENT
UID:2d369a7be4a80b7cda2d45a03c77a309
DTSTAMP:20260421T150116Z
SUMMARY:The lighting of the Menorah at Suffern Village Hall
DESCRIPTION:Jewish Federation & Foundation of Rockland County\nCommunity Ca
 lendar\nhttps://jewishrockland.org/calendar/the-lightning-of-the-menorah-a
 t-suffern-village-hall\n\nThe first night of Chanukah and the lighting of 
 the Menorah at Suffern Village Hall will be December 14th at 6:30pm with h
 ot chocolate and snacks being served. Right next door\, there will be show
 ing Adam Sandler's Eight Crazy Nights\, fun film before heading to the men
 orah lighting. Tickets to see the movie are only $8 for seniors/veterans/c
 hildren and $10 for adults. They are available for purchase at https://laf
 ayettetheatre.ticketspice.com/december-holiday-films or at the door the da
 y of. (...
DTSTART;TZID=America/New_York:20251214T183000
DTEND;TZID=America/New_York:20251214T190000
END:VEVENT
END:VCALENDAR
