BEGIN:VCALENDAR
PRODID:-//eluceo/ical//2.0/EN
VERSION:2.0
CALSCALE:GREGORIAN
BEGIN:VEVENT
UID:93176c7a7e8aadc5f5a7540d66287a47
DTSTAMP:20260423T105733Z
SUMMARY:"The Observant Life" Lecture and Chevruta Series - August 13
DESCRIPTION:Jewish Federation & Foundation of Rockland County\nCommunity Ca
 lendar\nhttps://jewishrockland.org/calendar/the-observant-life-lecture-and
 -chevruta-series-aug-13-75653\n\nStudy the Conservative movement's approac
 h to a range of legal and ethical topics.
DTSTART;TZID=America/New_York:20140813T193000
DTEND;TZID=America/New_York:20140813T213000
END:VEVENT
END:VCALENDAR
