BEGIN:VCALENDAR
PRODID:-//eluceo/ical//2.0/EN
VERSION:2.0
CALSCALE:GREGORIAN
BEGIN:VEVENT
UID:1316204b52b75f6f1d1f60a3e7cfb78d
DTSTAMP:20260422T175203Z
SUMMARY:“The Observant Life: The Wisdom of Conservative Judaism for Conte
 mporary Je
DESCRIPTION:Jewish Federation & Foundation of Rockland County\nCommunity Ca
 lendar\nhttps://jewishrockland.org/calendar/the-observant-life-the-wisdom-
 of-conservative-judaism-for-contemporary-jews-7359\n\n“The Observant Lif
 e: The Wisdom of Conservative
DTSTART;TZID=America/New_York:20130422T193000
DTEND;TZID=America/New_York:20130422T213000
END:VEVENT
END:VCALENDAR
