BEGIN:VCALENDAR
PRODID:-//eluceo/ical//2.0/EN
VERSION:2.0
CALSCALE:GREGORIAN
BEGIN:VEVENT
UID:fc7242a633b9c1a72ba0d60513066f07
DTSTAMP:20260422T204717Z
SUMMARY:The Sandwich Generation - How to Survive and Thrive
DESCRIPTION:Jewish Federation & Foundation of Rockland County\nCommunity Ca
 lendar\nhttps://jewishrockland.org/calendar/the-sandwich-generation---how-
 to-survive-and-thrive-1743179329\n\nJoin Rabbi Michele Medwin for strategi
 es to manage stress and responsibilities when caring for aging parents whi
 le raising children. As a licensed mental health professional\, she'll add
 ress the emotional\, spiritual\, financial\, and time challenges faced by 
 those in their 30's to 50's balancing caregiving\, work\, and personal lif
 e. This event is FREE and open to the community. Please RSVP to RTRAdultED
 @gmail.com. This event is in person\, but a Zoom link will be provided for
  registrants who are u...
DTSTART;TZID=America/New_York:20250430T190000
DTEND;TZID=America/New_York:20250430T203000
END:VEVENT
END:VCALENDAR
