BEGIN:VCALENDAR
PRODID:-//eluceo/ical//2.0/EN
VERSION:2.0
CALSCALE:GREGORIAN
BEGIN:VEVENT
UID:4c62582d8e09eb16d54b16f60237a86e
DTSTAMP:20260420T120724Z
SUMMARY:There Was No Silence
DESCRIPTION:Jewish Federation & Foundation of Rockland County\nCommunity Ca
 lendar\nhttps://jewishrockland.org/calendar/there-was-no-silence-159016132
 6\n\nThere Was No Silence is a documentary about JCC Rockland’s efforts 
 to get a minute of silence for the 11 Israeli athletes murdered at the Mun
 ich Olympics in 1972. Timed to premiere on the 47th anniversary of the Mun
 ich massacre and less than a year before the Tokyo Olympics.
DTSTART;TZID=America/New_York:20200727T193000
DTEND;TZID=America/New_York:20200729T193000
END:VEVENT
END:VCALENDAR
