BEGIN:VCALENDAR
PRODID:-//eluceo/ical//2.0/EN
VERSION:2.0
CALSCALE:GREGORIAN
BEGIN:VEVENT
UID:ae6306355b3b198b982bb0708131181a
DTSTAMP:20260421T140047Z
SUMMARY:Tikkun Leil Shavuot
DESCRIPTION:Jewish Federation & Foundation of Rockland County\nCommunity Ca
 lendar\nhttps://jewishrockland.org/calendar/tikkun-leil-shavuot-1715790940
 \n\nMyth & Metaphor of God with Rabbi Allison Berlinger\nSpirituality and 
 Torah with Amy Kodsi\nA Study of Megillat Ruth with Irit Aran\nPanel discu
 ssion on Medical Ethics and the Gaza War
DTSTART;TZID=America/New_York:20240611T203000
DTEND;TZID=America/New_York:20240611T233000
END:VEVENT
END:VCALENDAR
