BEGIN:VCALENDAR
PRODID:-//eluceo/ical//2.0/EN
VERSION:2.0
CALSCALE:GREGORIAN
BEGIN:VEVENT
UID:1a552016d9b0f6eb1a610f1dc325e503
DTSTAMP:20260424T150510Z
SUMMARY:Tiny Tots
DESCRIPTION:Jewish Federation & Foundation of Rockland County\nCommunity Ca
 lendar\nhttps://jewishrockland.org/calendar/tiny-tots-1717008444\n\nAges 1
 6-34 months
DTSTART;TZID=America/New_York:20240620T083000
DTEND;TZID=America/New_York:20240620T103000
END:VEVENT
END:VCALENDAR
