BEGIN:VCALENDAR
PRODID:-//eluceo/ical//2.0/EN
VERSION:2.0
CALSCALE:GREGORIAN
BEGIN:VEVENT
UID:75e2bd2b76f9bccb1b2547e98b0e6e01
DTSTAMP:20260420T041027Z
SUMMARY:Torah and Treats
DESCRIPTION:Jewish Federation & Foundation of Rockland County\nCommunity Ca
 lendar\nhttps://jewishrockland.org/calendar/torah-and-treats-63293\n\nJoin
  Rabbi Scheff as we discuss the writings of Rabbi Abraham Joshua Heschel
DTSTART;TZID=America/New_York:20140528T123000
DTEND;TZID=America/New_York:20140528T123000
END:VEVENT
END:VCALENDAR
