BEGIN:VCALENDAR
PRODID:-//eluceo/ical//2.0/EN
VERSION:2.0
CALSCALE:GREGORIAN
BEGIN:VEVENT
UID:d2286ea8e827099cbae2764c700ed758
DTSTAMP:20260421T062212Z
SUMMARY:Torah and Treats - August 27
DESCRIPTION:Jewish Federation & Foundation of Rockland County\nCommunity Ca
 lendar\nhttps://jewishrockland.org/calendar/torah-and-treats-august-27-756
 55\n\nJoin us as we explore the writings of Rabbi Abraham Joshua Heschel
DTSTART;TZID=America/New_York:20140827T123000
DTEND;TZID=America/New_York:20140827T143000
END:VEVENT
END:VCALENDAR
