BEGIN:VCALENDAR
PRODID:-//eluceo/ical//2.0/EN
VERSION:2.0
CALSCALE:GREGORIAN
BEGIN:VEVENT
UID:16f69c0f93a3cffded8f5408330738ad
DTSTAMP:20260422T133202Z
SUMMARY:Torah and Treats - August 6
DESCRIPTION:Jewish Federation & Foundation of Rockland County\nCommunity Ca
 lendar\nhttps://jewishrockland.org/calendar/torah-and-treats-august-6-7565
 4\n\nJoin us as we explore the writings of Rabbi Abraham Joshua Heschel
DTSTART;TZID=America/New_York:20140806T123000
DTEND;TZID=America/New_York:20140806T143000
END:VEVENT
END:VCALENDAR
