BEGIN:VCALENDAR
PRODID:-//eluceo/ical//2.0/EN
VERSION:2.0
CALSCALE:GREGORIAN
BEGIN:VEVENT
UID:1457bb760e3952f7e5a29156417db102
DTSTAMP:20260419T124716Z
SUMMARY:Torah Corner with Rabbinical Intern Zachary
DESCRIPTION:Jewish Federation & Foundation of Rockland County\nCommunity Ca
 lendar\nhttps://jewishrockland.org/calendar/torah-corner-with-rabbinical-i
 ntern-zachary-1741723890\n\nJoin us on zoom to learn some basics about the
  Chassidic and Kabbalistic way of life\, the difference between the two an
 d how it is relevant to us in the modern area.\nMeeting ID: 850 4576 3462 
 Pass code 9181
DTSTART;TZID=America/New_York:20250319T200000
DTEND;TZID=America/New_York:20250319T210000
END:VEVENT
END:VCALENDAR
