BEGIN:VCALENDAR
PRODID:-//eluceo/ical//2.0/EN
VERSION:2.0
CALSCALE:GREGORIAN
BEGIN:VEVENT
UID:fa0c625b88eb98f805536e693642bb3b
DTSTAMP:20260420T041605Z
SUMMARY:Torah for Tots Program at Nanuet Hebrew Center
DESCRIPTION:Jewish Federation & Foundation of Rockland County\nCommunity Ca
 lendar\nhttps://jewishrockland.org/calendar/torah-for-tots-at-nanuet-hebre
 w-center\n\nTorah for Tots - at Nanuet Hebrew Center.\n\nSongs ... Crafts 
 ... Stories ... Snacks ... Fun !!!\n\nGather at 11:15am\, program starts 1
 1:30am … followed by Special “Junior Sized Kiddush” and ice cream !!
 !  \n\nPlease join us with your child for this unique Shabbat Experience.\
 n\nOpen to all preschool age children\; open to the Community.  \n\n[Next 
 session after this one will be on Saturday\, September 24th.] \n\nClick he
 re for details:...
DTSTART;TZID=America/New_York:20160813T111500
DTEND;TZID=America/New_York:20160813T123000
END:VEVENT
END:VCALENDAR
