BEGIN:VCALENDAR
PRODID:-//eluceo/ical//2.0/EN
VERSION:2.0
CALSCALE:GREGORIAN
BEGIN:VEVENT
UID:592d850a0eafdf3badf4984e4a442293
DTSTAMP:20260422T145553Z
SUMMARY:Tot Shabbat
DESCRIPTION:Jewish Federation & Foundation of Rockland County\nCommunity Ca
 lendar\nhttps://jewishrockland.org/calendar/tot-shabbat-1546148137\n\nTot 
 Shabbat is a monthly program held one Shabbat morning at 9:30 am at Beth A
 m Temple. Rabbi Dan Pernick and/or Cantor Marcy Kadin lead a 20-25 minute 
 fun program of song\, story and movement\, followed by an arts & crafts pr
 ogram led by Laura Simpson. Upcoming meetings are January 12 and March 9.T
 here is no charge and RSVPs\, while not required\, are welcomed. The progr
 am is open to everyone in the community and is geared towards kids up to a
 ge 5 (a parent or authorized adult must attend).Quest...
DTSTART;TZID=America/New_York:20190112T093000
DTEND;TZID=America/New_York:20190112T104500
END:VEVENT
END:VCALENDAR
