BEGIN:VCALENDAR
PRODID:-//eluceo/ical//2.0/EN
VERSION:2.0
CALSCALE:GREGORIAN
BEGIN:VEVENT
UID:182b988d3b02d3b3dbe87883cecf2c7a
DTSTAMP:20260420T070533Z
SUMMARY:Tot Shabbat at Nanuet Hebrew Center
DESCRIPTION:Jewish Federation & Foundation of Rockland County\nCommunity Ca
 lendar\nhttps://jewishrockland.org/calendar/tot-shabbat-NHC\n\nProgram gea
 red for children from birth to age six and their siblings\, parents and gr
 andparents. Celebrate Shabbat with prayers\, songs and a snack.
DTSTART;TZID=America/New_York:20161216T170000
DTEND;TZID=America/New_York:20161216T173000
END:VEVENT
END:VCALENDAR
