BEGIN:VCALENDAR
PRODID:-//eluceo/ical//2.0/EN
VERSION:2.0
CALSCALE:GREGORIAN
BEGIN:VEVENT
UID:ee11e8c0dd6d589523f3cdb41fca7b56
DTSTAMP:20260420T094649Z
SUMMARY:Tot Shabbat at Congregation Sons of Israel
DESCRIPTION:Jewish Federation & Foundation of Rockland County\nCommunity Ca
 lendar\nhttps://jewishrockland.org/calendar/tot-shabbat-at-congregation-so
 ns-of-israel-1695236313\n\nBring your Tot to  Congregation Sons of Israel\
 , Nyack-  for Play and Pray with Songs \,Stories and Movement from 10:30 -
 11:30 a.m. Morah Bethel Marcus will keep your child engrossed .\nStay for 
 a lovely Kiddush Lunch! \nTot Shabbat Saturdays: Oct 14/ 28 \,Nov. 4/18\, 
 Dec. 2/16\, Jan. 6/27\, Feb.3/10\, March 9/23\,April 13/27 May4/18 (subjec
 t to change)\nAsk us about our Preschool and Hebrew School\noffice@csinyac
 k.org\nwebsite: csinyack.org
DTSTART;TZID=America/New_York:20231014T103000
DTEND;TZID=America/New_York:20231014T113000
END:VEVENT
END:VCALENDAR
