BEGIN:VCALENDAR
PRODID:-//eluceo/ical//2.0/EN
VERSION:2.0
CALSCALE:GREGORIAN
BEGIN:VEVENT
UID:caed2469eab518043a8279b5534cc729
DTSTAMP:20260419T122049Z
SUMMARY:Tot Shabbat at CSI
DESCRIPTION:Jewish Federation & Foundation of Rockland County\nCommunity Ca
 lendar\nhttps://jewishrockland.org/calendar/tot-shabbat-at-csi\n\nTot Shab
 bat\, every Saturday 11 a.m. -12 p.m. Come celebrate Shabbat morning with
  us as we learn\, read stories\, play games and discover what Shabbat is a
 ll about. Newborn – 6 years old. Free to all.
DTSTART;TZID=America/New_York:20140125T110000
DTEND;TZID=America/New_York:20140125T120000
END:VEVENT
END:VCALENDAR
