BEGIN:VCALENDAR
PRODID:-//eluceo/ical//2.0/EN
VERSION:2.0
CALSCALE:GREGORIAN
BEGIN:VEVENT
UID:6c025bfa5442e62655c8618e022ce00e
DTSTAMP:20260423T175317Z
SUMMARY:Tot Shabbat at CSI
DESCRIPTION:Jewish Federation & Foundation of Rockland County\nCommunity Ca
 lendar\nhttps://jewishrockland.org/calendar/tot-shabbat-at-csi-1468503560\
 n\nTot Shabbat at CSI\, Saturday\, July 22 - 11 a.m. -12 p.m.\nCongregatio
 n Sons of Israel\n300 North Broadway\, Upper Nyack\, NY 10960\nCome celebr
 ate Shabbat morning with us as we learn\, read stories\, play games and di
 scover what Shabbat is all about. Newborn – 6 years old. We always have 
 grape juice and challah with Rabbi Russo followed by a free lunch for all!
 " Free to all\nFor more information contact us at 845-358-3767 or csioffic
 e@optonline.net
DTSTART;TZID=America/New_York:20160722T110000
DTEND;TZID=America/New_York:20160722T120000
END:VEVENT
END:VCALENDAR
