BEGIN:VCALENDAR
PRODID:-//eluceo/ical//2.0/EN
VERSION:2.0
CALSCALE:GREGORIAN
BEGIN:VEVENT
UID:00513bd44f73265d926b877475e4d378
DTSTAMP:20260423T205847Z
SUMMARY:TOT Shabbat at CSI
DESCRIPTION:Jewish Federation & Foundation of Rockland County\nCommunity Ca
 lendar\nhttps://jewishrockland.org/calendar/tot-shabbat-at-csi-1726015416\
 n\nTot Shabbat is where families come to pray and play. Twice a month\, we
  offer an interactive learning experience where little ones ages 0-5 get e
 xposure to basic prayers\, Jewish symbols \, stories and values all while 
 playing with friends and family. \nAll children are welcomed to the Bima t
 o join the Rabbi for juice and challah\, followed by a beautiful Kiddush l
 uncheon.\nPlace: CSI -Nyack\nTime: 10:45-11:30 am\noffice@csinyack.org\nNo
 vember 2 & 16
DTSTART;TZID=America/New_York:20241116T104500
DTEND;TZID=America/New_York:20241116T113000
END:VEVENT
END:VCALENDAR
