BEGIN:VCALENDAR
PRODID:-//eluceo/ical//2.0/EN
VERSION:2.0
CALSCALE:GREGORIAN
BEGIN:VEVENT
UID:d1bfe3c87160953564da1fb2c572801d
DTSTAMP:20260425T113410Z
SUMMARY:TOT Shabbat at CSI
DESCRIPTION:Jewish Federation & Foundation of Rockland County\nCommunity Ca
 lendar\nhttps://jewishrockland.org/calendar/tot-shabbat-at-csi-1734553291\
 n\nTot Shabbat is where families come to pray and play. Twice a month\, we
  offer an interactive learning experience where little ones\, ages 0-5 get
  exposure to basic prayers\, Jewish symbols \, stories and values\, all wh
 ile playing with friends and family.\nAll children are welcome to the Bima
  to join the rabbi for juice and challah\, followed by a beautiful kiddush
  luncheon.\nPre-School 9:30-10:45\nPlace: CSI\nTime: 10:45-11:20\nRSVP off
 ice@csinyack.org\nTwice monthly
DTSTART;TZID=America/New_York:20250301T223000
DTEND;TZID=America/New_York:20250301T232000
END:VEVENT
END:VCALENDAR
