BEGIN:VCALENDAR
PRODID:-//eluceo/ical//2.0/EN
VERSION:2.0
CALSCALE:GREGORIAN
BEGIN:VEVENT
UID:7ff535bf074f9f0f03dc914e888b77b8
DTSTAMP:20260424T222531Z
SUMMARY:Tot Shabbat at CSI
DESCRIPTION:Jewish Federation & Foundation of Rockland County\nCommunity Ca
 lendar\nhttps://jewishrockland.org/calendar/tot-shabbat-at-csi-1734554103\
 n\nTot Shabbat is where families come to pray and play. Twice a month\, we
  offer an interactive learning experience where little ones\, ages 0-5 get
  exposure to basic prayers\, Jewish symbols \, stories and values\, all wh
 ile playing with friends and family.\nAll children are welcome to the Bima
  to join the rabbi for juice and challah\, followed by a beautiful kiddush
  luncheon.\n\nPlace: CSI\nTime: 10:45-11:20\nRSVP office@csinyack.org\nTwi
 ce monthly\nPre-School 9:30=10:45
DTSTART;TZID=America/New_York:20250503T223000
DTEND;TZID=America/New_York:20250503T232000
END:VEVENT
END:VCALENDAR
