BEGIN:VCALENDAR
PRODID:-//eluceo/ical//2.0/EN
VERSION:2.0
CALSCALE:GREGORIAN
BEGIN:VEVENT
UID:a2f479345484467bae061610dd2f159d
DTSTAMP:20260420T165638Z
SUMMARY:TOT Shabbat at CSI
DESCRIPTION:Jewish Federation & Foundation of Rockland County\nCommunity Ca
 lendar\nhttps://jewishrockland.org/calendar/tot-shabbat-at-csi-1760670434\
 n\nJoin Morah Bethel Marcus on Saturday December 13 for Play and Pray at T
 OT Shabbat. Stay for Kiddush with friends \, fun and food.\,\nAges infant 
 to first grade\nRSVP office@csinyack.org
DTSTART;TZID=America/New_York:20251213T104500
DTEND;TZID=America/New_York:20251213T113000
END:VEVENT
END:VCALENDAR
