BEGIN:VCALENDAR
PRODID:-//eluceo/ical//2.0/EN
VERSION:2.0
CALSCALE:GREGORIAN
BEGIN:VEVENT
UID:5b1ff9cc7b71a62881109b0c44a5e2d4
DTSTAMP:20260419T172124Z
SUMMARY:TOT Shabbat at CSI
DESCRIPTION:Jewish Federation & Foundation of Rockland County\nCommunity Ca
 lendar\nhttps://jewishrockland.org/calendar/tot-shabbat-at-csi-1760890334\
 n\nTOT Shabbat at CSI on 1/31 at 10:45-11:30. Bring your 0-5 children to p
 lay and pray with Morah Bethel Marcus. stay for Kiddush with friends\, fun
  and food. \nRSVP office@csinyack.org
DTSTART;TZID=America/New_York:20260131T104500
DTEND;TZID=America/New_York:20260131T113000
END:VEVENT
END:VCALENDAR
