BEGIN:VCALENDAR
PRODID:-//eluceo/ical//2.0/EN
VERSION:2.0
CALSCALE:GREGORIAN
BEGIN:VEVENT
UID:ccc0e351da0ff98d006d6a4ed61c2798
DTSTAMP:20260425T183832Z
SUMMARY:TOT Shabbat at CSI
DESCRIPTION:Jewish Federation & Foundation of Rockland County\nCommunity Ca
 lendar\nhttps://jewishrockland.org/calendar/tot-shabbat-at-csi-1762044580\
 n\nJoin Morah Bethel at CSI for TOT Shabbat where we play and pray. 0-5 ye
 ar old children will love this time with friends.\nRSVP office@csinyack.or
 g\n10:45-11\nRSVP office@csinyack.org\nFebruary 7\, 2026
DTSTART;TZID=America/New_York:20260307T104500
DTEND;TZID=America/New_York:20260307T113000
END:VEVENT
END:VCALENDAR
