BEGIN:VCALENDAR
PRODID:-//eluceo/ical//2.0/EN
VERSION:2.0
CALSCALE:GREGORIAN
BEGIN:VEVENT
UID:ef47474675584184144cf7d80e8c2eca
DTSTAMP:20260422T181102Z
SUMMARY:Tot Shabbat at CSI: November/December 2015
DESCRIPTION:Jewish Federation & Foundation of Rockland County\nCommunity Ca
 lendar\nhttps://jewishrockland.org/calendar/tot-shabbat-at-csi-novemberdec
 ember-2015\n\nCongregation Sons of Israel\n300 North Broadway\, Upper Nyac
 k\, NY 10960\nCome celebrate Shabbat morning with us as we learn\, read st
 ories\, play games and discover what Shabbat is all about. Newborn – 6 y
 ears old. We always have grape juice and challah with Rabbi Russo followed
  by a free lunch for all!\nFor more information contact us at 845-358-3767
  or csioffice@optonline.net
DTSTART;TZID=America/New_York:20151107T110000
DTEND;TZID=America/New_York:20151107T120000
END:VEVENT
END:VCALENDAR
