BEGIN:VCALENDAR
PRODID:-//eluceo/ical//2.0/EN
VERSION:2.0
CALSCALE:GREGORIAN
BEGIN:VEVENT
UID:195be500779921c4ad403f41baa0abfa
DTSTAMP:20260424T044145Z
SUMMARY:Tot Shabbat at CSI\, Nyack
DESCRIPTION:Jewish Federation & Foundation of Rockland County\nCommunity Ca
 lendar\nhttps://jewishrockland.org/calendar/tot-shabbat-at-csi-nyack-14510
 66817\n\nTot Shabbat at CSI\, Saturday\, January 9\, and 23\, - 11 a.m. -1
 2 p.m.  Congregation Sons of Israel 300 North Broadway\, Upper Nyack\, NY 
 10960 Come celebrate Shabbat morning with us as we learn\, read stories\, 
 play games and discover what Shabbat is all about. Newborn – 6 years old
 . We always have grape juice and challah with Rabbi Russo followed by a fr
 ee lunch for all!" Free to all  For more information contact us at 845-358
 -3767 or csioffice@optonline.net
DTSTART;TZID=America/New_York:20160109T110000
DTEND;TZID=America/New_York:20160109T120000
END:VEVENT
END:VCALENDAR
