BEGIN:VCALENDAR
PRODID:-//eluceo/ical//2.0/EN
VERSION:2.0
CALSCALE:GREGORIAN
BEGIN:VEVENT
UID:d583163c039b4ef0af391955cea18a62
DTSTAMP:20260424T203548Z
SUMMARY:Tot Shabbat At CSI Nyack
DESCRIPTION:Jewish Federation & Foundation of Rockland County\nCommunity Ca
 lendar\nhttps://jewishrockland.org/calendar/tot-shabbat-at-csi-nyack-14934
 13190\n\nTot Shabbat at CSI\, Saturday\, May 6\, 13 and 20- 11 a.m. -12 p.
 m.\nCongregation Sons of Israel\n300 North Broadway\, Upper Nyack\, NY 109
 60\nCome celebrate Shabbat morning with us as we read stories\, play games
  and discover what\nShabbat is all about. This is an interactive\, fun\, l
 earning experience. Newborn – 6 years old.\nWe always have grape juice a
 nd challah with Rabbi Russo followed by a free lunch for all!"\nFree to al
 l! More information contact us at 845-358-3767 or csioffice@optonline....
DTSTART;TZID=America/New_York:20170506T110000
DTEND;TZID=America/New_York:20170506T120000
END:VEVENT
END:VCALENDAR
