BEGIN:VCALENDAR
PRODID:-//eluceo/ical//2.0/EN
VERSION:2.0
CALSCALE:GREGORIAN
BEGIN:VEVENT
UID:11875b913871574838093aa792bf7adf
DTSTAMP:20260421T135917Z
SUMMARY:Tot Shabbat at CSI Nyack
DESCRIPTION:Jewish Federation & Foundation of Rockland County\nCommunity Ca
 lendar\nhttps://jewishrockland.org/calendar/tot-shabbat-at-csi-nyack-68119
 \n\nCome celebrate Shabbat morning with us as we learn\, read stories\, pl
 ay games and discover what Shabbat is all about. Newborn – 6 years old.
  We always have grape juice and challah with Rabbi Russo followed by a fre
 e lunch for everyone!\n\nFree and open to all.\n\nFor more information con
 tact us at 845-358-3767 or csioffice@optonline.net
DTSTART;TZID=America/New_York:20141025T110000
DTEND;TZID=America/New_York:20141025T120000
END:VEVENT
END:VCALENDAR
