BEGIN:VCALENDAR
PRODID:-//eluceo/ical//2.0/EN
VERSION:2.0
CALSCALE:GREGORIAN
BEGIN:VEVENT
UID:aeba3244344ca55de0fafae02ead6f03
DTSTAMP:20260420T135357Z
SUMMARY:Tot Shabbat At CSI Nyack
DESCRIPTION:Jewish Federation & Foundation of Rockland County\nCommunity Ca
 lendar\nhttps://jewishrockland.org/calendar/tot-shabbat-at-csi-nyack-jan-2
 1\n\nTot Shabbat at CSI\, Saturday\, January 7\, 21\, and 28 - 11 a.m. -12
  p.m.\nCongregation Sons of Israel\n300 North Broadway\, Upper Nyack\, NY 
 10960\nCome celebrate Shabbat morning with us as we read stories\, play ga
 mes and discover what\nShabbat is all about. This is an interactive\, fun\
 , learning experience. Newborn – 6 years old.\nWe always have grape juic
 e and challah with Rabbi Russo followed by a free lunch for all!"\nFree to
  all! More information contact us at 845-358-3767 or csioffice@opto...
DTSTART;TZID=America/New_York:20170121T110000
DTEND;TZID=America/New_York:20170121T120000
END:VEVENT
END:VCALENDAR
