BEGIN:VCALENDAR
PRODID:-//eluceo/ical//2.0/EN
VERSION:2.0
CALSCALE:GREGORIAN
BEGIN:VEVENT
UID:fdcea424448ac7ebb01feb9bc2883457
DTSTAMP:20260424T100830Z
SUMMARY:Tot Shabbat at CSI
DESCRIPTION:Jewish Federation & Foundation of Rockland County\nCommunity Ca
 lendar\nhttps://jewishrockland.org/calendar/tot-shabbat-at-csi-september\n
 \nTot Shabbat at CSI\, Saturday\, September 10 and 24 - 11 a.m. -12 p.m.\n
 Congregation Sons of Israel\n300 North Broadway\, Upper Nyack\, NY 10960\n
 Come celebrate with us as we discover what Shabbat is all about. This is a
 n interactive and fun learning experience with stories\, and games. Newbor
 n – 6 years old.\nWe always have grape juice and challah with Rabbi Russ
 o followed by a free lunch for all!\nFree to all\nFor more information con
 tact us at 845-358-3767 or csioffice@optonline.net\nFor High...
DTSTART;TZID=America/New_York:20160910T110000
DTEND;TZID=America/New_York:20160910T120000
END:VEVENT
END:VCALENDAR
