BEGIN:VCALENDAR
PRODID:-//eluceo/ical//2.0/EN
VERSION:2.0
CALSCALE:GREGORIAN
BEGIN:VEVENT
UID:26662ea9e60524c57bb66f004b1eb78e
DTSTAMP:20260424T045720Z
SUMMARY:Tot Shabbat at The Reform Temple of Rockland
DESCRIPTION:Jewish Federation & Foundation of Rockland County\nCommunity Ca
 lendar\nhttps://jewishrockland.org/calendar/tot-shabbat-at-the-reform-temp
 le-of-rockland-1720722477\n\nHelp us welcome in Shabbat with this short\, 
 fun\, and musical interactive program. Everyone is welcome - bring the who
 le family!
DTSTART;TZID=America/New_York:20241220T173000
DTEND;TZID=America/New_York:20241220T181500
END:VEVENT
END:VCALENDAR
