BEGIN:VCALENDAR
PRODID:-//eluceo/ical//2.0/EN
VERSION:2.0
CALSCALE:GREGORIAN
BEGIN:VEVENT
UID:7bda79f91b20af47f266ef0ceb848e48
DTSTAMP:20260426T004135Z
SUMMARY:Tot Shabbat At CSI Nyack
DESCRIPTION:Jewish Federation & Foundation of Rockland County\nCommunity Ca
 lendar\nhttps://jewishrockland.org/calendar/tot-shabbat-csi-nyack-mar-25\n
 \nTot Shabbat at CSI\, Saturday\, March 25 - 11 a.m. -12 p.m.\nCongregatio
 n Sons of Israel\n300 North Broadway\, Upper Nyack\, NY 10960\nCome celebr
 ate Shabbat morning with us as we read stories\, play games and discover w
 hat\nShabbat is all about. This is an interactive\, fun\, learning experie
 nce. Newborn – 6 years old.\nWe always have grape juice and challah with
  Rabbi Russo followed by a free lunch for all!"\nFree to all! More informa
 tion contact us at 845-358-3767 or csioffice@optonline.net
DTSTART;TZID=America/New_York:20170325T110000
DTEND;TZID=America/New_York:20170325T120000
END:VEVENT
END:VCALENDAR
