BEGIN:VCALENDAR
PRODID:-//eluceo/ical//2.0/EN
VERSION:2.0
CALSCALE:GREGORIAN
BEGIN:VEVENT
UID:d3f306fa773e5b20f88846f4fce8ef7f
DTSTAMP:20260421T134437Z
SUMMARY:Tot Shabbat at NHC
DESCRIPTION:Jewish Federation & Foundation of Rockland County\nCommunity Ca
 lendar\nhttps://jewishrockland.org/calendar/tot-shabbat-march-nhc\n\nProgr
 am geared for children from birth to age six and their siblings\, parents 
 and grandparents. Celebrate Shabbat with prayers\, songs and a snack.
DTSTART;TZID=America/New_York:20170317T170000
DTEND;TZID=America/New_York:20170317T173000
END:VEVENT
END:VCALENDAR
