BEGIN:VCALENDAR
PRODID:-//eluceo/ical//2.0/EN
VERSION:2.0
CALSCALE:GREGORIAN
BEGIN:VEVENT
UID:835b133f362b2ab4f7e8bb3ac3133dac
DTSTAMP:20260422T081626Z
SUMMARY:Touch-A-Truck
DESCRIPTION:Jewish Federation & Foundation of Rockland County\nCommunity Ca
 lendar\nhttps://jewishrockland.org/calendar/touch-a-truck-1559311883-31212
 3\n\nFree Fun for the whole family!\nDoes your child dream of sitting behi
 nd the wheel of a fire truck? Or honking the horn of a police car? Well\, 
 we want to make those dreams come true!\n\nTouch-A-Truck is a unique oppor
 tunity which allows children to explore vehicles of all types – public s
 ervice\, emergency\, utility\, construction\, landscaping\, transportation
 \, delivery and more! It’s FUN all in one place! Children are allowed to
  touch their favorite vehicles\, get behind the wheel\, climb\,...
DTSTART;TZID=America/New_York:20190915T100000
DTEND;TZID=America/New_York:20190915T140000
END:VEVENT
END:VCALENDAR
