BEGIN:VCALENDAR
PRODID:-//eluceo/ical//2.0/EN
VERSION:2.0
CALSCALE:GREGORIAN
BEGIN:VEVENT
UID:457f659cf76a30ed90568fd1c8f38062
DTSTAMP:20260423T004802Z
SUMMARY:Transformational Judaism
DESCRIPTION:Jewish Federation & Foundation of Rockland County\nCommunity Ca
 lendar\nhttps://jewishrockland.org/calendar/transformational-judaism-14543
 75584\n\nRabbi Alvin Bobroff proposes to launch Transformational Judaism a
 t the Men's Club of Congregation Shaarey Israel.He will answer the questio
 ns What\, Why\, Where\, and When? Primary goal is to unite all Jews with a
 ll Humanity
DTSTART;TZID=America/New_York:20160218T193000
DTEND;TZID=America/New_York:20160218T203000
END:VEVENT
END:VCALENDAR
