BEGIN:VCALENDAR
PRODID:-//eluceo/ical//2.0/EN
VERSION:2.0
CALSCALE:GREGORIAN
BEGIN:VEVENT
UID:2bf3aeb983e0bcc18657089f4976714c
DTSTAMP:20260425T011035Z
SUMMARY:Trivia Night Fndraiser for RJFS
DESCRIPTION:Jewish Federation & Foundation of Rockland County\nCommunity Ca
 lendar\nhttps://jewishrockland.org/calendar/trivia-night-fndraiser-for-rjf
 s-1744314551\n\nJoin us for our second annual Night to benefit the program
 s and services of Rockland Jewish Family Service. Trivia for all ages\, li
 ght refreshments\, prizes\, and lots of laughs!
DTSTART;TZID=America/New_York:20250618T183000
DTEND;TZID=America/New_York:20250618T203000
END:VEVENT
END:VCALENDAR
