BEGIN:VCALENDAR
PRODID:-//eluceo/ical//2.0/EN
VERSION:2.0
CALSCALE:GREGORIAN
BEGIN:VEVENT
UID:e5db31211593b174fcce63c8cd0be88d
DTSTAMP:20260425T105417Z
SUMMARY:Tu B'Av Shabbat Dinner at Congregation Shaarey Israel       
DESCRIPTION:Jewish Federation & Foundation of Rockland County\nCommunity Ca
 lendar\nhttps://jewishrockland.org/calendar/tu-bav-shabbat-dinner-at-congr
 egation-shaarey-israel-76166\n\nCelebrate Tu B'Av at our Shabbat service f
 ollowed by dinner. Tell us your stories of love and how you found your "be
 shert." Cost:$25 per adult\, $15 for teens\, under 5 yrs. free.
DTSTART;TZID=America/New_York:20140808T183000
DTEND;TZID=America/New_York:20140808T183000
END:VEVENT
END:VCALENDAR
