BEGIN:VCALENDAR
PRODID:-//eluceo/ical//2.0/EN
VERSION:2.0
CALSCALE:GREGORIAN
BEGIN:VEVENT
UID:d598d535ce934d6e4b969b972c9d95fc
DTSTAMP:20260422T010904Z
SUMMARY:Tu B'Shevat Celebration for children at JCC Rockland
DESCRIPTION:Jewish Federation & Foundation of Rockland County\nCommunity Ca
 lendar\nhttps://jewishrockland.org/calendar/tu-bshevat-celebration-for-chi
 ldren-at-jcc-rockland-1767383575\n\nTu B’Shevat Celebration for children
  at JCC Rockland\n\nFebruary 1 @ 10:30 am - 12:00 pm\nCome and celebrate t
 he birthday of the trees with eco-friendly crafts\, planting\, songs and m
 ore!\n\nIdeal for ages 2-7\n$18 members | $25 public
DTSTART;TZID=America/New_York:20260201T103000
DTEND;TZID=America/New_York:20260201T114500
END:VEVENT
END:VCALENDAR
