BEGIN:VCALENDAR
PRODID:-//eluceo/ical//2.0/EN
VERSION:2.0
CALSCALE:GREGORIAN
BEGIN:VEVENT
UID:ac3a7abaf67face53f3ac9eaeef6f4b4
DTSTAMP:20260425T134605Z
SUMMARY:Tu B'shevat Seder at CSI 
DESCRIPTION:Jewish Federation & Foundation of Rockland County\nCommunity Ca
 lendar\nhttps://jewishrockland.org/calendar/tu-bshevat-seder-at-csi-142262
 7765\n\nSaturday\, February 7th\, 1 p.m. Tu B'shevat Seder at CSI  Please 
 join CSI for a family-friendly\, intergenerational Tu B’shevat Seder fol
 lowing  Shabbat kiddush. Also join us for Shabbat services\, 9:30 a.m. All
  are welcome. Free Congregation Sons of Israel\, 300 N. Broadway\, Upper N
 yack\, NY 10960. For more information contact us at 845-358-3767 or csioff
 ice@optonline.net
DTSTART;TZID=America/New_York:20150207T130000
DTEND;TZID=America/New_York:20150207T140000
END:VEVENT
END:VCALENDAR
