BEGIN:VCALENDAR
PRODID:-//eluceo/ical//2.0/EN
VERSION:2.0
CALSCALE:GREGORIAN
BEGIN:VEVENT
UID:eda5d8da218e62ec547115eed493db1c
DTSTAMP:20260425T203212Z
SUMMARY:Tu B'Shevat Seder at CSI\, Nysck
DESCRIPTION:Jewish Federation & Foundation of Rockland County\nCommunity Ca
 lendar\nhttps://jewishrockland.org/calendar/tu-bshevat-seder-at-csi-nysck-
 1485293590\n\nSaturday\, February 11\, Tu B'Shevat Seder at CSI 5:15 pm\nC
 ongregation Sons of Israel\n300 North Broadway\, Upper Nyack\, NY 10960\nJ
 oin CSI for a celebration of nature. We will experience the holiday of Tu 
 B’Shevat with delicious tastes and smells\, plus stories\, songs and a s
 eder. There will be activities for children of all ages and meaningful dis
 cussions and experiences for adults. Pajamas are encouraged!! We recommend
  having dinner before or after the program\, but save room for some specia
 ...
DTSTART;TZID=America/New_York:20170211T171500
DTEND;TZID=America/New_York:20170211T181500
END:VEVENT
END:VCALENDAR
