BEGIN:VCALENDAR
PRODID:-//eluceo/ical//2.0/EN
VERSION:2.0
CALSCALE:GREGORIAN
BEGIN:VEVENT
UID:714d11613d010ddc9bb84639a610ce32
DTSTAMP:20260424T155513Z
SUMMARY:Tu B'Shvat Service & Shabbat Dinner
DESCRIPTION:Jewish Federation & Foundation of Rockland County\nCommunity Ca
 lendar\nhttps://jewishrockland.org/calendar/tu-bshvat-service-shabbat-dinn
 er-2017\n\nCome and join us as we celebrate Tu B'Shvat 5777 on Friday nigh
 t 02/10/2017.\nOur Hebrew School children will lead us in the Kabbalat Sha
 bbat Service at 6:00 PM. After services\, we will enjoy a Seudah (special 
 meal in celebration of Tu B'Shvat)\, The cost is $25 per person. Call the 
 Shaarey Israel office at (845) 369-0300 by 02/07/2017 to reserve your plac
 es.
DTSTART;TZID=America/New_York:20170210T180000
DTEND;TZID=America/New_York:20170211T130000
END:VEVENT
END:VCALENDAR
