BEGIN:VCALENDAR
PRODID:-//eluceo/ical//2.0/EN
VERSION:2.0
CALSCALE:GREGORIAN
BEGIN:VEVENT
UID:6a924b1a6de77965d727ab4c7ff3e39b
DTSTAMP:20260419T123706Z
SUMMARY:Tween & Teen Mitzvah Day
DESCRIPTION:Jewish Federation & Foundation of Rockland County\nCommunity Ca
 lendar\nhttps://jewishrockland.org/calendar/tween--teen-mitzvah-day\n\nTwe
 en & Teen Mitzvah Day
DTSTART;TZID=America/New_York:20130421T090000
DTEND;TZID=America/New_York:20130421T140000
END:VEVENT
END:VCALENDAR
