BEGIN:VCALENDAR
PRODID:-//eluceo/ical//2.0/EN
VERSION:2.0
CALSCALE:GREGORIAN
BEGIN:VEVENT
UID:c3b47c316a580e25b9820cf90b190206
DTSTAMP:20260420T172632Z
SUMMARY:Uncertain Refuge: Italy and the Jews During the Holocaust
DESCRIPTION:Jewish Federation & Foundation of Rockland County\nCommunity Ca
 lendar\nhttps://jewishrockland.org/calendar/uncertain-refuge-italy-and-the
 -jews-during-the-holocaust\n\nUncertain Refuge
DTSTART;TZID=America/New_York:20140123T183000
DTEND;TZID=America/New_York:20140123T200000
END:VEVENT
END:VCALENDAR
