BEGIN:VCALENDAR
PRODID:-//eluceo/ical//2.0/EN
VERSION:2.0
CALSCALE:GREGORIAN
BEGIN:VEVENT
UID:d547fc3dc6cd671db0d17a0a8648fa7b
DTSTAMP:20260424T010148Z
SUMMARY:United Hospice Walk to Remember
DESCRIPTION:Jewish Federation & Foundation of Rockland County\nCommunity Ca
 lendar\nhttps://jewishrockland.org/calendar/united-hospice-walk-to-remembe
 r-1651886111\n\nDue to the weather forecast of high winds and 90% chance o
 f heavy rain\, we are moving this Saturday’s Annual Walk to Remember to 
 Monday evening for a Stroll Around the Lake!\nIf you are walking hybrid th
 is year and won’t be able to make it on Monday night\, please send us pi
 ctures of you and/or your team walking together and post to your page. Rem
 ember to tag United Hospice so we can share to our page as well!\nWalk to 
 Remember T-Shirts can be picked up at the walk for all registered parti...
DTSTART;TZID=America/New_York:20220509T170000
DTEND;TZID=America/New_York:20220509T193000
END:VEVENT
END:VCALENDAR
