BEGIN:VCALENDAR
PRODID:-//eluceo/ical//2.0/EN
VERSION:2.0
CALSCALE:GREGORIAN
BEGIN:VEVENT
UID:b783301cbf0bbaabd6106f8bae5974ed
DTSTAMP:20260421T100129Z
SUMMARY:Upheaval In Israel
DESCRIPTION:Jewish Federation & Foundation of Rockland County\nCommunity Ca
 lendar\nhttps://jewishrockland.org/calendar/upheaval-in-israel\n\nJudicial
  Reform\, Protest\, and Prospects for Dialogue.\nJoin the Discussion!
DTSTART;TZID=America/New_York:20230309T193000
DTEND;TZID=America/New_York:20230309T203000
END:VEVENT
END:VCALENDAR
